BEGIN:VCALENDAR
VERSION:2.0
PRODID:-//CFA Society Sweden - ECPv6.15.17.1//NONSGML v1.0//EN
CALSCALE:GREGORIAN
METHOD:PUBLISH
X-ORIGINAL-URL:https://cfasweden.se
X-WR-CALDESC:Events for CFA Society Sweden
REFRESH-INTERVAL;VALUE=DURATION:PT1H
X-Robots-Tag:noindex
X-PUBLISHED-TTL:PT1H
BEGIN:VTIMEZONE
TZID:Europe/Stockholm
BEGIN:DAYLIGHT
TZOFFSETFROM:+0100
TZOFFSETTO:+0200
TZNAME:CEST
DTSTART:20220327T010000
END:DAYLIGHT
BEGIN:STANDARD
TZOFFSETFROM:+0200
TZOFFSETTO:+0100
TZNAME:CET
DTSTART:20221030T010000
END:STANDARD
BEGIN:DAYLIGHT
TZOFFSETFROM:+0100
TZOFFSETTO:+0200
TZNAME:CEST
DTSTART:20230326T010000
END:DAYLIGHT
BEGIN:STANDARD
TZOFFSETFROM:+0200
TZOFFSETTO:+0100
TZNAME:CET
DTSTART:20231029T010000
END:STANDARD
BEGIN:DAYLIGHT
TZOFFSETFROM:+0100
TZOFFSETTO:+0200
TZNAME:CEST
DTSTART:20240331T010000
END:DAYLIGHT
BEGIN:STANDARD
TZOFFSETFROM:+0200
TZOFFSETTO:+0100
TZNAME:CET
DTSTART:20241027T010000
END:STANDARD
END:VTIMEZONE
BEGIN:VEVENT
DTSTART;TZID=Europe/Stockholm:20230124T173000
DTEND;TZID=Europe/Stockholm:20230124T193000
DTSTAMP:20260423T075913
CREATED:20221213T165336Z
LAST-MODIFIED:20230111T111429Z
UID:1190-1674581400-1674588600@cfasweden.se
SUMMARY:When ESG goes mainstream – meeting the demand for expertise
DESCRIPTION:Join us for this exciting event which will feature a panel of inspiring investment professionals. Find out about the best ways to educate yourself and your team with high level of ESG knowledge that has become so crucial in today’s investment environment. \nThis event is open to non-members and the session counts for 1 CPL credit \nProgram\n17:30 – Welcome & Mingle\n17:50 – Panel discussion with your experts: The needs for ESG expertise today\, challenges & solutions\n18:20 – About the Certificate in ESG Investing\n18:30 – Fireside chats: How to choose an ESG education and why?\n18:45 – Concluding remarks\n18:50 – Mingle: drinks & canapés \nAbout your panel\n \nVictoria Lidén\nVictoria is Sustainability Analyst at Storebrand Asset Management and Head of Corporate Governance for Storebrand Fonder. Prior to joining Storebrand\, she was ESG analyst at Öhman. Her journey in sustainability and responsible investment started at Söderberg & Partners in 2016. Victoria holds a BSc from Stockholm University in Business Administration\, Economics & Political Sciences. \n  \n \nLingyi Lu\nLingyi is Head of Sustainability at Söderberg & Partners and Board member of Swesif\, the Swedish Sustainable Investment Forum. Prior to joining Söderberg & Partners in 2019\, she worked with External Relations & Advocacy at UNDP. Lingyi holds a BSc in Business & Economics and a Master’s degreen in Sustainable development from Uppsala University as well as an MSc in Applied Economics & Finance from Copenhagen Business School. \n  \n \nEric Christian Pedersen\nEric is Head of Responsible Investments at Nordea Asset Management and Vice Chair of Dansif\, the Danish Sustainable Investment Forum. In the finance industry since 1996\, of which the largest part spent at Nordea in various roles\, Eric worked as an Economist for the UNDP in Mali at the beginning of his career. He holds a Msc in Economics from the University of Copenhagen. \n  \n \nRobert Vicsai\nRobert is Portfolio Manager at SEB Investment Management. Prior to joining SEB in 2020\, he worked at Storebrand and East Capital among other places. Robert holds a BA in Business Administration and Management from Växjö University as well as an Executive MBA\, Financial management from Stockholm School of Economics. \n  \nYour moderator\n \nAline Reichenberg Gustafsson\, CFA\nAline has 20 years of experience in the asset management industry in Stockholm\, London and Geneva\, including as a long/short equity hedge fund portfolio manager\, and buy-side analyst\, but also as CFO and COO in several asset management firms. Aline holds an MBA from Harvard Business School and a License in Economic Sciences from the University of Geneva. \n 
URL:https://cfasweden.se/event/when-esg-goes-mainstream/
LOCATION:Storebrand\, Vasagatan 10\, Stockholm\, 11120\, Sweden
CATEGORIES:After Work,CPL Credit
END:VEVENT
END:VCALENDAR