BEGIN:VCALENDAR
VERSION:2.0
PRODID:-//CFA Society Sweden - ECPv6.15.17.1//NONSGML v1.0//EN
CALSCALE:GREGORIAN
METHOD:PUBLISH
X-ORIGINAL-URL:https://cfasweden.se
X-WR-CALDESC:Events for CFA Society Sweden
REFRESH-INTERVAL;VALUE=DURATION:PT1H
X-Robots-Tag:noindex
X-PUBLISHED-TTL:PT1H
BEGIN:VTIMEZONE
TZID:Europe/Stockholm
BEGIN:DAYLIGHT
TZOFFSETFROM:+0100
TZOFFSETTO:+0200
TZNAME:CEST
DTSTART:20240331T010000
END:DAYLIGHT
BEGIN:STANDARD
TZOFFSETFROM:+0200
TZOFFSETTO:+0100
TZNAME:CET
DTSTART:20241027T010000
END:STANDARD
BEGIN:DAYLIGHT
TZOFFSETFROM:+0100
TZOFFSETTO:+0200
TZNAME:CEST
DTSTART:20250330T010000
END:DAYLIGHT
BEGIN:STANDARD
TZOFFSETFROM:+0200
TZOFFSETTO:+0100
TZNAME:CET
DTSTART:20251026T010000
END:STANDARD
BEGIN:DAYLIGHT
TZOFFSETFROM:+0100
TZOFFSETTO:+0200
TZNAME:CEST
DTSTART:20260329T010000
END:DAYLIGHT
BEGIN:STANDARD
TZOFFSETFROM:+0200
TZOFFSETTO:+0100
TZNAME:CET
DTSTART:20261025T010000
END:STANDARD
END:VTIMEZONE
BEGIN:VEVENT
DTSTART;TZID=Europe/Stockholm:20250513T173000
DTEND;TZID=Europe/Stockholm:20250513T183000
DTSTAMP:20260422T063452
CREATED:20250505T073859Z
LAST-MODIFIED:20250505T075553Z
UID:2777-1747157400-1747161000@cfasweden.se
SUMMARY:The Future of Emerging Markets and The Rise of a Digital India
DESCRIPTION:The Third Wave of global digitization has reached an infleclion point. The conditions and technologies born in Silicon Valley have now spread\, evolved\, and matured worldwide\, creating billions of digital natives and numerous unicorns in all corners of the globe. With India’s swelling middle class of youthful online consumers as the catalyst\, the country stands apart. It is poised to lead global growth as it enters a golden age of digital transformation. \n\nUnderstanding the flaws in traditional Emerging Market Investing\nWhy India is the perfect emerging market + diversifier right now\nHow to invest in India’s digital transformation\nNext Wave of the Digital Revolution: LatAm and SE Asia\n\nAbout Your Speaker\nKevin T. Carter is the Founder & Chief Investment Officer of EMQQ Global. While he principally considers himself an active “value” investor\, he has collaborated with Princeton economist and indexing legend\, Dr. Burton G. Malkiel\, for more than 20 years. Together\, Malkiel and Carter founded eInvesting in 1999\, a pioneer firm in fractional share brokerage acquired by ETRADE in 2000\, and Active Index Advisors\, a pioneer in “direct indexing” acquired by Natixis Asset Management in 2005. In 2006\, their efforts turned to China and Emerging Markets and they launched several China focused ETFs on the NYSE with Guggenheim Partners. \n*Please register for the event; the Zoom link will be sent to your email.
URL:https://cfasweden.se/event/the-future-of-emerging-markets-and-the-rise-of-a-digital-india/
LOCATION:Zoom
CATEGORIES:Webinar
ATTACH;FMTTYPE=image/jpeg:https://cfasweden.se/wp-content/uploads/2025/05/EmergingMarkets-KevinCarter.jpg
END:VEVENT
END:VCALENDAR