BEGIN:VCALENDAR
VERSION:2.0
PRODID:-//CFA Society Sweden - ECPv6.15.17.1//NONSGML v1.0//EN
CALSCALE:GREGORIAN
METHOD:PUBLISH
X-WR-CALNAME:CFA Society Sweden
X-ORIGINAL-URL:https://cfasweden.se
X-WR-CALDESC:Events for CFA Society Sweden
REFRESH-INTERVAL;VALUE=DURATION:PT1H
X-Robots-Tag:noindex
X-PUBLISHED-TTL:PT1H
BEGIN:VTIMEZONE
TZID:Europe/Stockholm
BEGIN:DAYLIGHT
TZOFFSETFROM:+0100
TZOFFSETTO:+0200
TZNAME:CEST
DTSTART:20240331T010000
END:DAYLIGHT
BEGIN:STANDARD
TZOFFSETFROM:+0200
TZOFFSETTO:+0100
TZNAME:CET
DTSTART:20241027T010000
END:STANDARD
BEGIN:DAYLIGHT
TZOFFSETFROM:+0100
TZOFFSETTO:+0200
TZNAME:CEST
DTSTART:20250330T010000
END:DAYLIGHT
BEGIN:STANDARD
TZOFFSETFROM:+0200
TZOFFSETTO:+0100
TZNAME:CET
DTSTART:20251026T010000
END:STANDARD
BEGIN:DAYLIGHT
TZOFFSETFROM:+0100
TZOFFSETTO:+0200
TZNAME:CEST
DTSTART:20260329T010000
END:DAYLIGHT
BEGIN:STANDARD
TZOFFSETFROM:+0200
TZOFFSETTO:+0100
TZNAME:CET
DTSTART:20261025T010000
END:STANDARD
END:VTIMEZONE
BEGIN:VEVENT
DTSTART;TZID=Europe/Stockholm:20251118T120000
DTEND;TZID=Europe/Stockholm:20251118T130000
DTSTAMP:20260421T210453
CREATED:20251111T094249Z
LAST-MODIFIED:20251117T153335Z
UID:2970-1763467200-1763470800@cfasweden.se
SUMMARY:Webinar: New Economy Operating System: Building an Economy on Tokenized Assets
DESCRIPTION:Join us for an informative webinar on how tokenization redefines business models\, compliance structures and value flows. \nThe New Economy Operating System represents a fundamental shift in how value is created\, exchanged\, and governed. As tokenized assets become the building blocks of the next-generation economy\, we are moving beyond speculative narratives toward real\, functional ecosystems where tokens represent rights\, access\, reputation\, and participation. \nIn this webinar\, we will explore how tokenization redefines business models\, compliance structures\, and value flows; not just within crypto\, but across traditional finance\, gaming\, and digital infrastructure. Drawing on practical experiences from building tokenized ecosystems\, we’ll discuss what it truly means to operate an economy on-chain: the design challenges\, regulatory intersections\, and opportunities to align economic incentives with shared purpose. \nYour Speaker\nZara Zamani\, Investor\, CPTO & Co-founder \nZara Zamani is Co-Founder and CPTO at 4+Ventures\, an emerging tech venture building investment studio in Sweden actively investing in web3\, AI\, sustainability technologies and Next Generation infrastructure technologies. She is also CEO of Lucky Kat studio\, a Dutch web3 gaming studio building the biggest web3 gaming protocol with over 100+ games. She has multiple years of experience in designing blockchain platforms in Fintech\, tourism\, healthcare\, logistics\, food chain\, energy\, gaming\, Decentralized Finance\, DAOs\, metaverse\, fashion\, etc. She was featured as one of the 21 women in the blockchain\, 10 most influential women in technology and power list of women in Fintech. with a Ph.D. in blockchain adoption she is backed by both scientific and practical knowledge. \n1 PL Credit
URL:https://cfasweden.se/event/webinar-new-economy-operating-system-building-an-economy-on-tokenized-assets/
LOCATION:Zoom
CATEGORIES:Webinar
ATTACH;FMTTYPE=image/jpeg:https://cfasweden.se/wp-content/uploads/2025/11/Cryptoassets-ZaraZamani.jpg
END:VEVENT
BEGIN:VEVENT
DTSTART;TZID=Europe/Stockholm:20251124T173000
DTEND;TZID=Europe/Stockholm:20251124T183000
DTSTAMP:20260421T210453
CREATED:20251118T082742Z
LAST-MODIFIED:20251118T082742Z
UID:2975-1764005400-1764009000@cfasweden.se
SUMMARY:Global Dynamics & Market Outlook 2026: Tariffs\, Tailwinds\, and the Truth About AI
DESCRIPTION:Join us for a timely webinar exploring the forces shaping today’s global markets. With the U.S. adopting a more assertive tariff strategy\, trade policy is once again becoming a major lever of geopolitical influence—reshaping supply chains\, investment flows\, and the competitive landscape for both developed and emerging economies. We will unpack what is driving this shift\, why tariffs are returning as a policy tool\, and how they are reverberating across global markets. \nThe session will also identify three key tailwinds that continue to support equity markets despite macro uncertainty\, highlighting where investors may find structural strength in 2025. \nFinally\, we will address one of the most debated questions of the decade: is AI in a bubble\, or are we only at the beginning of a long-term productivity supercycle? Drawing on market data\, sector trends\, and historical analogs\, we will examine what’s real\, what’s hype\, and what it means for capital allocation going forward. \nYour speaker\nPhil Mackintosh\, Senior Vice President\, Nasdaq Chief Economist \nPhil Mackintosh is the Chief Economist and a Senior Vice President at Nasdaq. He manages Nasdaq’s microeconomic research to encourage capital formation and increase investor returns through better market structure. His weekly newsletter\, Market Makers\, is read by more than 55\,000 subscribers and covers topics ranging from IPO markets\, ETF trading\, retail investor activity\, and more.  \nPhil’s ability to simplify the complicated and explain what the economic data really means is highly regarded. He is frequently a featured speaker at conferences and often speaks with the media on macroeconomic themes and outlooks. \nPhil joined Nasdaq in 2018\, bringing over 30 years of financial\, operational and trading experience. He has held senior trading and research roles at KCG/Virtu Financial\, Credit Suisse and County Investment Management. He started his career at KPMG and is also a Chartered Accountant.
URL:https://cfasweden.se/event/global-dynamics-market-outlook-2026-tariffs-tailwinds-and-the-truth-about-ai/
LOCATION:Zoom
CATEGORIES:Webinar
ATTACH;FMTTYPE=image/jpeg:https://cfasweden.se/wp-content/uploads/2025/11/PhilMacKintosh-webinar.jpg
END:VEVENT
END:VCALENDAR