BEGIN:VCALENDAR
VERSION:2.0
PRODID:-//CFA Society Sweden - ECPv6.15.17.1//NONSGML v1.0//EN
CALSCALE:GREGORIAN
METHOD:PUBLISH
X-WR-CALNAME:CFA Society Sweden
X-ORIGINAL-URL:https://cfasweden.se
X-WR-CALDESC:Events for CFA Society Sweden
REFRESH-INTERVAL;VALUE=DURATION:PT1H
X-Robots-Tag:noindex
X-PUBLISHED-TTL:PT1H
BEGIN:VTIMEZONE
TZID:Europe/Stockholm
BEGIN:DAYLIGHT
TZOFFSETFROM:+0100
TZOFFSETTO:+0200
TZNAME:CEST
DTSTART:20220327T010000
END:DAYLIGHT
BEGIN:STANDARD
TZOFFSETFROM:+0200
TZOFFSETTO:+0100
TZNAME:CET
DTSTART:20221030T010000
END:STANDARD
BEGIN:DAYLIGHT
TZOFFSETFROM:+0100
TZOFFSETTO:+0200
TZNAME:CEST
DTSTART:20230326T010000
END:DAYLIGHT
BEGIN:STANDARD
TZOFFSETFROM:+0200
TZOFFSETTO:+0100
TZNAME:CET
DTSTART:20231029T010000
END:STANDARD
BEGIN:DAYLIGHT
TZOFFSETFROM:+0100
TZOFFSETTO:+0200
TZNAME:CEST
DTSTART:20240331T010000
END:DAYLIGHT
BEGIN:STANDARD
TZOFFSETFROM:+0200
TZOFFSETTO:+0100
TZNAME:CET
DTSTART:20241027T010000
END:STANDARD
END:VTIMEZONE
BEGIN:VEVENT
DTSTART;TZID=Europe/Stockholm:20230503T173000
DTEND;TZID=Europe/Stockholm:20230503T193000
DTSTAMP:20260423T120003
CREATED:20230414T073354Z
LAST-MODIFIED:20230502T083207Z
UID:1875-1683135000-1683142200@cfasweden.se
SUMMARY:AW Seminar - The Key to Listed Private Assets
DESCRIPTION:We have the pleasure of inviting you an after-work event about Private Asset Investments! \nIn times of soaring inflation and volatile markets\, investors who have access to a broad range of asset classes can turn to private assets for opportunities. Not all investors have this chance but some listed companies can provide exposure to private assets via their listed holding structure. \nOne such company is Storskogen\, a Swedish company who has received a lot of attention in the press recently for its shaky stock price. \nAlexander Bjärgård\, Co-founder\, Executive Vice President\, Corporate Development and M&A at Storskogen will share his knowledge about the M&A market and tell us how Storskogen weathering the storm while creating value for its shareholders. \nThis event accounts for 1 CPL credit. \nAbout your expert\nAlexander Murad Bjärgård\, Co-founder\, Executive Vice President\, Corporate Development and M&A at Storskogen. \nPrior to co-founding Storskogen Industrier AB in 2012 and accompanying the company in its growth beyond its listing on Stockholm Nasdaq as Storskogen Group AB (Publ) in 2020\, Alexander co-founded several other companies within the tech and internet space. He started his career as a lawyer and general counsel. Alexander holds a Master in law from the University of Uppsala.
URL:https://cfasweden.se/event/listed-private-assets/
LOCATION:Helio GT30\, Grev Turegatan 30\, Stockholm\, 114 38
ATTACH;FMTTYPE=image/jpeg:https://cfasweden.se/wp-content/uploads/2023/04/everyday-basics-GJY1eAw6tn8-unsplash.jpg
END:VEVENT
BEGIN:VEVENT
DTSTART;TZID=Europe/Stockholm:20230525T170000
DTEND;TZID=Europe/Stockholm:20230525T223000
DTSTAMP:20260423T120003
CREATED:20230331T094157Z
LAST-MODIFIED:20230522T154844Z
UID:1834-1685034000-1685053800@cfasweden.se
SUMMARY:Forecast Dinner 2023
DESCRIPTION:We have the pleasure of inviting you to our flagship dinner which will take place at Gamla Riksarkivet. \nThe Annual Forecast Dinner is CFA Society Sweden’s flagship event of the year where we look forward to inviting members and guests to network\, discuss\, and share ideas. We believe this is a great way to strengthen the investment community in Sweden. \nProgram preview\n17:00 Welcome drinks & registration \n18:00 Dinner \nKeynote: Minter Dial\, author – AI & Empathy  \nPresentation by Marc Preiser\, Portfolio Manager at Fidelity International – Direct Lending \nESG Award \nNew CFA Charter holder ceremony \n21:00 Mingel & Open bar \n22:30 Carriages \n\n \n  \nMinter Dial is a professional speaker\, author and elevator\, specialized in leadership\, branding and transformation. \nAn agent of change who has exercised twelve different métiers and moved country fifteen times\, he’s the author of the WWII story\, The Last Ring Home as well as three business books: Futureproof\, Heartificial Empathy and You Lead. \n  \n  \n\n \n  \nMarc Preiser joined Fidelity in April 2022 as Portfolio Manager for the Direct Lending Fund. Prior to joining Fidelity\, Marc served as Senior Advisor to Next Wave Partners\, a lower mid-market private equity firm\, working with Next Wave to reposition its portfolio and pursue a hybrid credit strategy. Marc has worked at and held senior roles across several European financial institutions including BNP Paribas and Credit Lyonnais. \n  \n  \nMore details about the program will be available soon. \nWe look forward to seeing you there!
URL:https://cfasweden.se/event/forecast-dinner-2023/
LOCATION:Gamla Riksarkivet\, Gamla Riksarkivet\, Birger Jarls Torg 2a\, Stockholm\, 111 28
CATEGORIES:Forecast Dinner
END:VEVENT
END:VCALENDAR