BEGIN:VCALENDAR
VERSION:2.0
PRODID:-//CFA Society Sweden - ECPv6.15.17.1//NONSGML v1.0//EN
CALSCALE:GREGORIAN
METHOD:PUBLISH
X-WR-CALNAME:CFA Society Sweden
X-ORIGINAL-URL:https://cfasweden.se
X-WR-CALDESC:Events for CFA Society Sweden
REFRESH-INTERVAL;VALUE=DURATION:PT1H
X-Robots-Tag:noindex
X-PUBLISHED-TTL:PT1H
BEGIN:VTIMEZONE
TZID:Europe/Stockholm
BEGIN:DAYLIGHT
TZOFFSETFROM:+0100
TZOFFSETTO:+0200
TZNAME:CEST
DTSTART:20220327T010000
END:DAYLIGHT
BEGIN:STANDARD
TZOFFSETFROM:+0200
TZOFFSETTO:+0100
TZNAME:CET
DTSTART:20221030T010000
END:STANDARD
BEGIN:DAYLIGHT
TZOFFSETFROM:+0100
TZOFFSETTO:+0200
TZNAME:CEST
DTSTART:20230326T010000
END:DAYLIGHT
BEGIN:STANDARD
TZOFFSETFROM:+0200
TZOFFSETTO:+0100
TZNAME:CET
DTSTART:20231029T010000
END:STANDARD
BEGIN:DAYLIGHT
TZOFFSETFROM:+0100
TZOFFSETTO:+0200
TZNAME:CEST
DTSTART:20240331T010000
END:DAYLIGHT
BEGIN:STANDARD
TZOFFSETFROM:+0200
TZOFFSETTO:+0100
TZNAME:CET
DTSTART:20241027T010000
END:STANDARD
END:VTIMEZONE
BEGIN:VEVENT
DTSTART;TZID=Europe/Stockholm:20230622T140000
DTEND;TZID=Europe/Stockholm:20230622T150000
DTSTAMP:20260421T230830
CREATED:20230616T144816Z
LAST-MODIFIED:20230616T145941Z
UID:2085-1687442400-1687446000@cfasweden.se
SUMMARY:AI and It's Implications for Asset Management & Bloomberg Applications  / 22 June @14:00
DESCRIPTION:CFA Society Norway and Bloomberg invite you to a compelling webinar on “AI and Its Implications for Asset Management & Bloomberg Applications” on the 22nd of June at 14 CET. \nThis interactive session will cover the following: \n\nAn overview of Artificial Intelligence (AI)\nThe role and applications of AI in asset management\nBloomberg’s integration of AI into its solutions and platform\n\nGain valuable insights\, stay updated on AI trends\, and join the conversation on this transformative technology’s impact on our industry! \nRegister for the event from here! \n\n  \nCFA Society Norway is sponsored by
URL:https://cfasweden.se/event/ai-and-its-implications-for-asset-management-bloomberg-applications-22-june-1400/
CATEGORIES:Webinar
ATTACH;FMTTYPE=image/jpeg:https://cfasweden.se/wp-content/uploads/2023/06/Untitled-1-e1686926970508.jpg
END:VEVENT
END:VCALENDAR