BEGIN:VCALENDAR
VERSION:2.0
PRODID:-//CFA Society Sweden - ECPv6.15.17.1//NONSGML v1.0//EN
CALSCALE:GREGORIAN
METHOD:PUBLISH
X-ORIGINAL-URL:https://cfasweden.se
X-WR-CALDESC:Events for CFA Society Sweden
REFRESH-INTERVAL;VALUE=DURATION:PT1H
X-Robots-Tag:noindex
X-PUBLISHED-TTL:PT1H
BEGIN:VTIMEZONE
TZID:Europe/Stockholm
BEGIN:DAYLIGHT
TZOFFSETFROM:+0100
TZOFFSETTO:+0200
TZNAME:CEST
DTSTART:20230326T010000
END:DAYLIGHT
BEGIN:STANDARD
TZOFFSETFROM:+0200
TZOFFSETTO:+0100
TZNAME:CET
DTSTART:20231029T010000
END:STANDARD
BEGIN:DAYLIGHT
TZOFFSETFROM:+0100
TZOFFSETTO:+0200
TZNAME:CEST
DTSTART:20240331T010000
END:DAYLIGHT
BEGIN:STANDARD
TZOFFSETFROM:+0200
TZOFFSETTO:+0100
TZNAME:CET
DTSTART:20241027T010000
END:STANDARD
BEGIN:DAYLIGHT
TZOFFSETFROM:+0100
TZOFFSETTO:+0200
TZNAME:CEST
DTSTART:20250330T010000
END:DAYLIGHT
BEGIN:STANDARD
TZOFFSETFROM:+0200
TZOFFSETTO:+0100
TZNAME:CET
DTSTART:20251026T010000
END:STANDARD
END:VTIMEZONE
BEGIN:VEVENT
DTSTART;TZID=Europe/Stockholm:20240909T114500
DTEND;TZID=Europe/Stockholm:20240909T130000
DTSTAMP:20260422T004932
CREATED:20240826T100558Z
LAST-MODIFIED:20240826T100558Z
UID:2522-1725882300-1725886800@cfasweden.se
SUMMARY:Ladies that Launch 🚀 #3
DESCRIPTION:You are one of just 30 female CFA Charterholders in Sweden. Want to meet the rest? \nThe Women in Finance committee would like to invite you to our third Ladies who Launch networking event series which will include a catered lunch in Stockholm. \nWe were thrilled with the feedback from our first lunch and look forward to welcoming new faces and old ones. \nThis event is limited to 12 people.
URL:https://cfasweden.se/event/ladies-that-launch-%f0%9f%9a%80-3/
LOCATION:SEB\, Malmskillnadsgatan 44B\, Stockholm\, 11157\, Sweden
CATEGORIES:Lunch Event
ATTACH;FMTTYPE=image/jpeg:https://cfasweden.se/wp-content/uploads/2024/08/euroblonde_a_large_group_of_women_in_business_talking_over_lunc_8f939695-cd66-486b-9112-61b3db9c9381.jpg
END:VEVENT
END:VCALENDAR